BEGIN:VCALENDAR
VERSION:2.0
PRODID:-//Ayuntamiento de Allín - ECPv5.8.1//NONSGML v1.0//EN
CALSCALE:GREGORIAN
METHOD:PUBLISH
X-WR-CALNAME:Ayuntamiento de Allín
X-ORIGINAL-URL:https://allin.es
X-WR-CALDESC:Eventos para Ayuntamiento de Allín
BEGIN:VTIMEZONE
TZID:UTC
BEGIN:STANDARD
TZOFFSETFROM:+0000
TZOFFSETTO:+0000
TZNAME:UTC
DTSTART:20230101T000000
END:STANDARD
END:VTIMEZONE
BEGIN:VEVENT
DTSTART;TZID=UTC:20230630T080000
DTEND;TZID=UTC:20230702T230000
DTSTAMP:20260425T222536
CREATED:20230531T072445Z
LAST-MODIFIED:20230531T072445Z
UID:10370-1688112000-1688338800@allin.es
SUMMARY:FIESTAS DE ZUBIELQUI
DESCRIPTION:
URL:https://allin.es/eventos/fiestas-de-zubielqui-2/
ATTACH;FMTTYPE=image/jpeg:https://allin.es/wp-content/uploads/2023/05/fiestasZUBIELQUI2023.jpg
END:VEVENT
BEGIN:VEVENT
DTSTART;TZID=UTC:20230701T193000
DTEND;TZID=UTC:20230701T210000
DTSTAMP:20260425T222536
CREATED:20230531T084748Z
LAST-MODIFIED:20230531T084748Z
UID:10389-1688239800-1688245200@allin.es
SUMMARY:MUSICATA DE CERVEZA Y CATA DE PINTXOS
DESCRIPTION:
URL:https://allin.es/eventos/musicata-de-cerveza-y-cata-de-pintxos/
ATTACH;FMTTYPE=image/jpeg:https://allin.es/wp-content/uploads/2023/05/actividadesARBEIZA-horizontal.jpg
END:VEVENT
BEGIN:VEVENT
DTSTART;TZID=UTC:20230718T134000
DTEND;TZID=UTC:20230718T141000
DTSTAMP:20260425T222536
CREATED:20230619T085625Z
LAST-MODIFIED:20230619T085625Z
UID:10422-1689687600-1689689400@allin.es
SUMMARY:BIBLIOBUS
DESCRIPTION:
URL:https://allin.es/eventos/bibliobus-2/
CATEGORIES:Cultura
ATTACH;FMTTYPE=image/png:https://allin.es/wp-content/uploads/2023/06/Ruta-Urederra.verano-1.png
END:VEVENT
END:VCALENDAR