BEGIN:VCALENDAR
VERSION:2.0
PRODID:-//Ayuntamiento de Allín - ECPv5.8.1//NONSGML v1.0//EN
CALSCALE:GREGORIAN
METHOD:PUBLISH
X-WR-CALNAME:Ayuntamiento de Allín
X-ORIGINAL-URL:https://allin.es
X-WR-CALDESC:Eventos para Ayuntamiento de Allín
BEGIN:VTIMEZONE
TZID:UTC
BEGIN:STANDARD
TZOFFSETFROM:+0000
TZOFFSETTO:+0000
TZNAME:UTC
DTSTART:20230101T000000
END:STANDARD
END:VTIMEZONE
BEGIN:VEVENT
DTSTART;TZID=UTC:20230603T110000
DTEND;TZID=UTC:20230603T133000
DTSTAMP:20260425T234840
CREATED:20230531T084316Z
LAST-MODIFIED:20230531T084316Z
UID:10382-1685790000-1685799000@allin.es
SUMMARY:TALLER DE SERUM Y LECHE CORPORAL
DESCRIPTION:
URL:https://allin.es/eventos/taller-de-serum-y-leche-corporal/
LOCATION:Arbeiza
END:VEVENT
BEGIN:VEVENT
DTSTART;TZID=UTC:20230610T080000
DTEND;TZID=UTC:20230610T170000
DTSTAMP:20260425T234840
CREATED:20230512T074043Z
LAST-MODIFIED:20230531T071046Z
UID:10339-1686384000-1686416400@allin.es
SUMMARY:FIESTA DEL VALLE 2023- Muneta
DESCRIPTION:
URL:https://allin.es/eventos/fiesta-del-valle-2023-muneta/
ATTACH;FMTTYPE=image/jpeg:https://allin.es/wp-content/uploads/2023/05/PLantilla.-6.jpg
END:VEVENT
BEGIN:VEVENT
DTSTART;TZID=UTC:20230610T210000
DTEND;TZID=UTC:20230610T233000
DTSTAMP:20260425T234840
CREATED:20230531T084424Z
LAST-MODIFIED:20230531T084424Z
UID:10384-1686430800-1686439800@allin.es
SUMMARY:OBSERVACIÓN DE ESTRELLAS
DESCRIPTION:
URL:https://allin.es/eventos/observacion-de-estrellas/
ATTACH;FMTTYPE=image/jpeg:https://allin.es/wp-content/uploads/2023/05/actividadesARBEIZA-horizontal.jpg
END:VEVENT
BEGIN:VEVENT
DTSTART;TZID=UTC:20230615T080000
DTEND;TZID=UTC:20230615T170000
DTSTAMP:20260425T234840
CREATED:20230615T062456Z
LAST-MODIFIED:20230615T062456Z
UID:10404-1686816000-1686848400@allin.es
SUMMARY:FIESTAS PATRONALES – Galdeano 30 de junio\, 1 \, 2 y 3 de julio
DESCRIPTION:
URL:https://allin.es/eventos/fiestas-patronales-galdeano-30-de-junio-1-2-y-3-de-julio/
CATEGORIES:Fiestas populares
ATTACH;FMTTYPE=image/jpeg:https://allin.es/wp-content/uploads/2023/06/PLantilla.-7.jpg
END:VEVENT
BEGIN:VEVENT
DTSTART;TZID=UTC:20230618T103000
DTEND;TZID=UTC:20230618T180000
DTSTAMP:20260425T234840
CREATED:20230531T084529Z
LAST-MODIFIED:20230531T084529Z
UID:10387-1687084200-1687111200@allin.es
SUMMARY:SALIDA A MONJARDIN
DESCRIPTION:
URL:https://allin.es/eventos/salida-a-monjardin/
ATTACH;FMTTYPE=image/jpeg:https://allin.es/wp-content/uploads/2023/05/actividadesARBEIZA-horizontal.jpg
END:VEVENT
BEGIN:VEVENT
DTSTART;TZID=UTC:20230623T200000
DTEND;TZID=UTC:20230623T200000
DTSTAMP:20260425T234840
CREATED:20230621T070431Z
LAST-MODIFIED:20230621T070431Z
UID:10432-1687550400-1687550400@allin.es
SUMMARY:HOGUERA DE SAN JUAN - Asociacion sociocultural valdeallin
DESCRIPTION:
URL:https://allin.es/eventos/hoguera-de-san-juan-asociacion-sociocultural-valdeallin/
CATEGORIES:Cultura
ATTACH;FMTTYPE=image/jpeg:https://allin.es/wp-content/uploads/2023/06/hoguerasanjuan23-1.jpg
END:VEVENT
BEGIN:VEVENT
DTSTART;TZID=UTC:20230628T134000
DTEND;TZID=UTC:20230628T141000
DTSTAMP:20260425T234840
CREATED:20230619T085533Z
LAST-MODIFIED:20230619T085533Z
UID:10419-1687959600-1687961400@allin.es
SUMMARY:BIBLIOBUS
DESCRIPTION:
URL:https://allin.es/eventos/bibliobus/
CATEGORIES:Cultura
ATTACH;FMTTYPE=image/png:https://allin.es/wp-content/uploads/2023/06/Ruta-Urederra.verano-1.png
END:VEVENT
BEGIN:VEVENT
DTSTART;TZID=UTC:20230630T080000
DTEND;TZID=UTC:20230702T230000
DTSTAMP:20260425T234840
CREATED:20230531T072445Z
LAST-MODIFIED:20230531T072445Z
UID:10370-1688112000-1688338800@allin.es
SUMMARY:FIESTAS DE ZUBIELQUI
DESCRIPTION:
URL:https://allin.es/eventos/fiestas-de-zubielqui-2/
ATTACH;FMTTYPE=image/jpeg:https://allin.es/wp-content/uploads/2023/05/fiestasZUBIELQUI2023.jpg
END:VEVENT
END:VCALENDAR